Workbook

Sheet Audit Program
B1: [Name of Auditor]
B2: Chartered Accountants
B3: Branch Audit Program
B4: [Name of Bank] - [Name of Branch] - [Branch Code]
B5: Financial Year: 2019 - 2020
B7: Details of the Authorized Persons of the Bank
C9: Branch Manager - CM/AGM/DGM
C10: Chief Manager
C11: Officer
C12: Officer
B14: Sr. | C14: Audit Aspects | D14: Covered By Whom | E14: Extent of Check
B15: A | C15: General
B16: 1 | C16: Engagement letter to the appointing authority
B17: 2 | C17: Letter for NOC to previous auditors
B18: 3 | C18: Meeting and discussion with the bank branch management and understanding the profile of the branch and its business and take a note on the same
B19: 4 | C19: Letter of requirement to the Branch
B20: 5 | C20: Review of:-
B21: 5.1 | C21: Previous year's audit report/ LFAR,
B22: 5.2 | C22: Current period's Internal Audit Report/ Concurrent Audit Report
B23: 5.3 | C23: Revenue Audit Report
B24: 5.4 | C24: RBI Inspection Report
B25: 5.5 | C25: Compliance of the branch to all of the above
B26: 5.6 | C26: any other special review report.
B27: 6 | C27: Physical verification of
... B43: 11 | C43: Prepare a list of various closing returns to be verified and certified, and then checking of the same during the audit.
C44: Checking of Balance Sheet Items
B45: 12 | C45: Checking of the advances:
C46: Take list of all advances along with facility wise limits, outstanding, Name of Lead bank, Credit Rating, Credit summations in the account, last date of submission of stock statement, date of review of account, etc. This shall help to select the accounts for testing.
B47: 12.1 | C47: Scrutiny in detail.
B48: 12.2 | C48: Critical review of all large advances and their reporting as per prescribed norms.
B49: 12.3 | C49: Classification of advances as per IRAC norms.
B50: 12.4 | C50: Latest valuation of security given against advances.
B51: 12.5 | C51: Provisions on NPA as per IRAC norms.
B52: 12.6 | C52: Review of all major restructured cases along with the compliance of norms as per RBI Guidelines.
B53: 12.7 | C53: List of all SMA 2 accounts and reporting of the same to concerned authorities.
B54: 13 | C54: Loan Accounts (Performing)
B55: 13.1 | C55: Review of all large advances with balance of lower of 5 % or Rs.2 crore of total advances.
B56: 13.2 | C56: Review of loans sanctioned during the year.
B57: 13.3 | C57: Review of other advances on test check basis.
B58: 13.4 | C58: Review of adverse comments by Concurrent auditors, RBI/internal inspectors and the reply given and corrective actions taken by the branch.
...

Sheet Main LFAR
B2: [Name of the Bank]
B3: [Name of the Branch]
B4: Distinctive Code: [Branch Code]
F7: Period: 01.04.2019 to 31.03.2020
B8: I | E8: ASSETS | H8: Methodology | I8: Evidence / Documents to be obtained | J8: CBS Audit Requirements
C9: 1 | E9: CASH
D10: a | E10: Does the branch generally carry cash balances, which vary significantly from the limits fixed by the controlling authorities of the bank? Whether excess balances have been reported to the controlling authorities of the bank? | F10: The branch generally carry cash balances, which does not vary significantly from the limits fixed by the Branch, i.e. Rs. 2.00 Lacs. The controlling authorities of the bank have not prescribed any limits for cash retention as the cash balance is maintained for expenses of branch and employees. | H10: 1) Obtain Cash Retention Limit by Branch. 2)Verify the Cash Ledger through out the year and comment on the status of cash retained by branch. 3)Verify whether the instances of excess cash balances are being reported to the Controlling Office from time to time from correspondance. 4)Also verify the procedure for Cash in ATM and check the same has been within the limits. | I10: Xerox copy of any two pages of cash register and print out of cash balances on 12 odd dates to be obtained in working paper file. Take xerox copy of correspondance with CO for excess cash balance reporting. Also Cash Balance certificate must be obtained on the date of cash verification by SBA on date of verification or year end balance. | J10: Take GL Print of Cash In Hand Report in excel and V Look up for Annexure 1 - A
D11: b | E11: Does the branch hold adequate insurance cover for cash-on-hand and cash-in- transit? | F11: As per the HO Circular on cash retention limit, the Cash Insurance Policy for all branches, bank holds adequate insurance cover for cash on hand and cash in transit of Rs. 1.50 crore per branch. The Cash insurance policy was not available for our verification. | H11: 1) Check Insurance Policy for Cash (including cash in hand, cash in ATM, cash in transit). Verify whether the limits fixed are adequately covered by the Policy. 2)Check the date of Policy for validity during the FY. The details of Policy will be available with branch or in closing circular | I11: Xerox copy of Insurance Cover Note / Circular / Policy Number, take from HO Circular or Closing Circular
D12: c | E12: Is cash maintained in effective joint custody of two or more officials, as per the instructions of the controlling authorities of the bank? | F12: Based on our verification during the audit, the branch has maintained cash in joint custody of two officials as per the instructions of controlling authorities of bank. | H12: 1)Check Banks Policy for joint custody of cash chest and ATM. 2)Verify the operations during your presence whether the joint custody is effective. 3)Verify whether the cash vaults are opened / closed / operated jointly by two officials and comment | I12: Take photocopy of cash register maintained under 2 signatures inside the vault. Specify the name and designation of the concerned person.
D13: d | E13: Have the cash balances at the branch been checked at periodic intervals as per the procedure prescribed by the controlling authorities of the bank? | F13: The cash balances at the branch has not been checked at periodic intervals as per the procedure prescribed by the controlling authorities of the bank. | H13: 1)Check the policy of bank, the joint custodians of cash must sign on cash register every day, BM or Other officials should verify during the year on surprise basis. 2)Also concurrent auditors (Monthly), external auditors, external officials should verify the same. verify cash register and comment. 3) Check if officials who are not dealing with cash are alson doing verification on monthly basis. | I13: Xerox copy of page on which officials other than two regular officials have verified the physical cash balance during April 2018 to March 2019
C14: 2 | E14: Balances with Reserve Bank of India, State Bank of India and Other Banks
D15: a | E15: Were balance confirmation certificates obtained in respect of outstanding balances as at the year-end and whether the aforesaid balances have been reconciled? The nature and extent of differences should be reported. | F15: The Branch does not hold any Account with Reserve Bank of India, State Bank of India or other banks, hence this clasue is not applicable. | H15: 1)Identify from GL whether the branch maintains account with RBI or SBI or any other bank. 2)If yes, then verify the Account Statement with Ledger. 3)Also verify the Closing Balance with Balance Confirmation Certificate Received by the branch with Ledger balance. 4) Identify and report non accounting of revenue items such as interest/bank charges etc. Also identify and report the Items appearing in Reconciliation for more than 3 months | I15: Copy of Balance Confirmation Certificate, Copy of Reconciliation Statement. Also try to get third party confirmation directly from the branch if it is nearby.
D16: b | E16: Auditor’s observations on the reconciliation statements may be reported in the following manner: | F16: Not Applicable
D17: i | E17: Cash transactions remaining un-responded (give details) | F17: Not Applicable | H17: If any such item of cash withdrawal and deposit is pending, auditor should verify the reasons and report accordingly. | I17: Copy of such advice should be kept in WP
D18: ii | E18: Revenue items requiring adjustments/ write-off (give details) | F18: Not Applicable | H18: If any such item of Revenue / Expenditure nature has remained un accounted, the same should be recorded through MOC. | I18: Copy of Bank Statement with details of such transactions
D19: iii | E19: Old outstanding balances remaining unexplained/ unadjusted. Give details for: | F19: Not Applicable | H19: 1)Check the statement and verify the details of outstanding transactions in reconciliation statements along with appropriate narrations. 2)Break up of up to 3 months, upto 1 year and more than 1 year should be given | I19: Copy of Bank Reconciliation Statement with details of such transactions outstanding for more than 3 months with appropriate details
D20: - | E20: Outstanding between six months and one year; and | F20: Not Applicable
D21: - | E21: one year and above | F21: Not Applicable
D22: c | E22: In case any item deserves special attention of the management, the same may be reported. | F22: Not Applicable
C23: 3 | E23: Money at Call and Short Notice
E24: Has the Branch kept money-at-call and short notice during the year? If so, whether instructions/guidelines, if any, laid down by the controlling authorities of the bank have been complied with? | F24: The Branch has not kept money-at-call and short notice during the year. | H24: 1)Generally the branches are not allowed to keep Money at call and short notice now a days. 2)However verify the HO guidelines and verify whether the branch has followed the same. Report accordingly. | I24: Take MR / Certificate from Branch that they do not have any money at call and short notice
C25: 4 | E25: Investments
D26: (A) | E26: For Branches in India
D27: a | E27: Are there any investments held by branches on behalf of Head Office/other offices of the bank? If so, whether these have been made available for physical verification or evidences have been produced with regard to the same where these are not in possession of the branch? | F27: There are no investments held by branch on behalf of Head Office/other offices of the bank. | H27: Generally the branches are not allowed to have investment at branch, and they are centralised in Treasury. however there is possibility that the old Investments in physical form are kept with the branch for collection. Check whether HO guidelines have been followed by the branches and report accordingly. | I27: Take MR / Certificate from Branch that they do not have any such investments.
D28: b | E28: Whether any amounts received as income on such investments have been reported to the Head Office? | F28: Not Applicable | H28: Verify whether income on investments held by the branch has been recorded properly. Refer HO Guidelines
D29: c | E29: In respect of investments held by branches on behalf of Head Office/other offices of the bank whether any income is accrued / received and recognized as income of the branch contrary to the instructions of the controlling authorities of the bank? | F29: Not Applicable | H29: Verify whether income on investments held by the branch has been recorded properly. Refer HO Guidelines
D30: d | E30: Whether there are any matured or overdue investments, which have not been encashed? If so, give details? | F30: Not Applicable | H30: Check whether the investments held by the branch are overdue and the follow up with respective company has been done. Also check HO guidelines on this
D31: e | E31: Whether the Guidelines of the Reserve Bank of India regarding Transactions in Securities have been complied with. | F31: Not Applicable | H31: Check RBI Guidelines on investments
D32: f | E32: Whether the Guidelines of the Reserve Bank of India regarding Valuation of Investments have been complied with. | F32: Not Applicable | H32: Check valuation as per Master Circular on Investments
D33: (B) | E33: FOR BRANCHES OUTSIDE INDIA | F33: Not Applicable
D34: a | E34: In respect of purchase and sale of investments, has the branch acted within its delegated authority, having regard to the instructions/guidelines in this behalf issued by the controlling authorities of the bank? | F34: Not Applicable
D35: b | E35: Have the investments held by the branch whether on its own account or on behalf of the Head Office/ other branches been made available for physical verification? Where the investments are not in the possession of the branch, whether evidences with regard to their physical verification have been produced? | F35: Not Applicable
D36: c | E36: Is the mode of valuation of investments in accordance with the RBI guidelines or the norms prescribed by the relevant regulatory authority of the country in which the branch is located whichever are more stringent? | F36: Not Applicable
D37: d | E37: Whether there are any matured or overdue investments, which have not been en- cashed? If so, give details? | F37: Not Applicable
C38: 5 | E38: ADVANCES
E39: (The answers to the following questions may be based on the auditor's examination of all large advances and a test check of other advances. In respect of large advances, all cases of major adverse features, deficiencies, etc. should be reported. In respect of other advances, the auditor may comment upon the relevant aspects generally, along with instances of situations giving rise to his reservations or adverse remarks. For this purpose, large advances are those in respect of which the outstanding amount is in excess of 5% of the aggregate advances of the branch or Rs.2 crores, whichever is less)
D40: A | E40: CREDIT APPRAISAL
E41: In your opinion, has the branch generally complied with the procedures/ instructions of the controlling authorities of the bank regarding loan applications, preparation of proposals for grant / renewal of advances, enhancement of limits, etc., including adequate appraisal documentation in respect thereof. | F41: On the basis of ____ newly sanctioned borrower accounts verified by us, in our opinion the branch has generally complied with the procedures / instructions of the controlling authorities of the bank regarding loan application, preparation of proposals for grant / renewal of advances, enhancement of limits, etc., including adequate appraisal documentation in respect thereof, except those reported in Annexure "2". | H41: 1) Check whether appropriate Application Forms have been used for application of loan proposal. 2) Check whether the proposal for new/renewal has been recommended based on latest financial statements, past dealings with bank, repayment capacity of borrower, value of security in compliance with Head Office Guidelines. 3)Check comments of Branch while proposing the credit facilities such as - unit is functioning properly, pre sanction visit report, satisfaction in case of value of security and owenership of security, Insurance of security, End use of Loan proposed, other relevant documents submitted along with application, operation in account with bank, etc. 4) Check for "Earlier mortality cases" | I41: Make list of all Advances sanctioned during the year and note the selection criteria and sample selected for testing. Obtain list of sanctions during the year with details such as party, limit, sanctioned by etc.
D42: B | E42: SANCTIONING & DISBURSEMENT
D43: i | E43: In the cases examined by you, have you come across instances of credit facilities having been sanctioned beyond the delegated authority or limit fixed for the branch? Are such cases promptly reported to higher authorities? | F43: On the basis of ____ accounts sanctioned we have not come across instances of credit facilities having been sanctioned beyond the delegated authority of limit fixed for the branch, except those reported in Annexure "3" | H43: 1) Check whether delegation of power has been exercised as per manual of instruction while sanctioning the credit facilities. 2) Check the acceptance of Terms of Sanction by borrowers. 3) Check operations permitted beyond sanctioned limits, adhoc loans, short term loans. Report instances. 4) Cases are to be checked where existing borrowers are allowed to overdraw for a period beyond permissible time, such cases need to be reported. | I43: Take xerox copy of sanction letter in cases identifed where sanction is beyond delegated power. Mention in MR
...

Sheet FxB
B2: =+'Main LFAR'!B2:F2 -> [Name of the Bank]
B3: =+'Main LFAR'!B3:F3 -> [Name of the Branch]
B4: =+'Main LFAR'!B4:F4 -> Distinctive Code: [Branch Code]
B6: LONG FORM AUDIT REPORT [LFAR] TO MANAGEMENT
B7: QUESTIONNARE APPLICABLE TO BRANCHES DEALING IN FOREIGN EXCHANGE TRANSACTIONS
F8: =+'Main LFAR'!F7 -> Period: 01.04.2019 to 31.03.2020
C9: 1 | E9: Are there any material adverse features pointed out in the reports of concurrent auditors, internal auditors and / or the Reserve Bank of India's inspection report which continue to persist in relation to NRE/ NRO/ NRNR/ FCNR-B/ EEFC/ RFC and other similar deposit accounts If so, furnish the particulars of such adverse features. | F9: There are no material adverse features pointed out in the reports of concurrent auditors, internal auditors and / or the Reserve Bank of India's inspection report which continue to persist in relation to NRE/ NRO/ NRNR/ FCNR-B/ EEFC/ RFC and other similar deposit accounts.
C10: 2 | E10: Whether the Branch has followed the instructions and guidelines of the controlling authorities of the bank with regard to the following in relation to the foreign exchange. If not, state the irregularities: | F10: The Branch has generally followed the instructions and guidelines of the controlling authorities of the bank with regard to the following in relation to the foreign exchange.
D11: a | E11: Deposits | F11: Nil
D12: b | E12: Advances | F12: Nil
D13: c | E13: Export Bills | F13: Nil
D14: d | E14: Bills for collection | F14: Nil
D15: e | E15: Dealing room operations (where a branch has one) | F15: Nil
D16: f | E16: Any other area | F16: Nil
C17: 3 | E17: Obtain a list of all Nostro Accounts maintained / operated by the Branch from the branch management. | F17: List of Nostro Accounts attached as Annexure "A".
C18: 4 | D18: a | E18: Are the Nostro Accounts regularly operated? | F18: Yes, the Nostro Accounts are regularly operated.
D19: b | E19: Are periodic balance confirmations obtained from all concerned overseas branches/ correspondents? | F19: Yes, balance confirmations are obtained from overseas branches periodically
D20: c | E20: Are these accounts duly reconciled periodically? Your observations on the reconciliation may be reported. | F20: Yes, the Nostro Accounts are regularly reconciled.
C21: 5 | E21: Does the Branch follow the prescribed procedures in relation to maintenance of Vostro Accounts? | F21: The branch has followed prescribed procedures in relation to maintenance of Vostro Accounts.
C23: =+'Main LFAR'!C126 -> For | E23: ='Main LFAR'!E126 -> [Name of the Bank] | F23: =+'Main LFAR'!F126 -> For Name of CA Firm
E24: ='Main LFAR'!E127 -> [Name of the Branch] | F24: =+'Main LFAR'!F127 -> Chartered Accountants
E25: ='Main LFAR'!E128 -> Distinctive Code: [Branch Code] | F25: =+'Main LFAR'!F128 -> FRN:
C29: =+'Main LFAR'!C132 -> Branch Manager | F29: =+'Main LFAR'!F132 -> Name of Partner
C30: =+'Main LFAR'!C133 -> Chief Manager / AGM / DGM | F30: =+'Main LFAR'!F133 -> Partner
F31: =+'Main LFAR'!F134 -> Membership No.
C33: =+'Main LFAR'!C136 -> Place: | F33: =+'Main LFAR'!F136 -> Place:
C34: =+'Main LFAR'!C137 -> Date: | F34: =+'Main LFAR'!F137 -> Date:

Sheet LCB
B2: =+FxB!B2 -> [Name of the Bank]
B3: =+FxB!B3 -> [Name of the Branch]
B4: =+FxB!B4 -> Distinctive Code: [Branch Code]
B6: LONG FORM AUDIT REPORT [LFAR] TO MANAGEMENT
B7: For Branches dealing in Large Advances such as corporate banking branches and industrial finance branches or branches with advances in excess of Rs.100 crores
F8: =+FxB!F8 -> Period: 01.04.2019 to 31.03.2020
C9: 1 | E9: In respect of borrowers with outstanding of Rs. 2.00 crore and above, the information in the enclosed format (Annexure “F”) should be obtained from the Branch Management. Comments of the Branch Auditor on advances with significant adverse features and which might need the attention of the management/Central Statutory Auditors should be appended to the Long Form Audit Report. | F9: No such significant adverse features observed in respect of borrowers with outstanding of Rs. 2.00 crore and above.
C10: 2 | E10: What, in your opinion, are the major shortcomings in credit appraisal, monitoring etc. | F10: No major shortcomings observed.
C11: 3 | E11: List the accounts (with outstanding in excess of Rs. 1.00 crore), which have either been downgraded or upgraded with regard to their classification as Non Performing Asset or Standard Asset during the year and the reasons therefor. | F11: No such case observed.
C13: =+FxB!C23 -> For | F13: =+FxB!F23 -> For Name of CA Firm
C14: =+FxB!E24 -> [Name of the Branch] | F14: =+FxB!F24 -> Chartered Accountants
C15: =+FxB!E25 -> Distinctive Code: [Branch Code] | F15: =+FxB!F25 -> FRN:
C19: =+FxB!C29 -> Branch Manager | F19: =+FxB!F29 -> Name of Partner
C20: =+FxB!C30 -> Chief Manager / AGM / DGM | F20: =+FxB!F30 -> Partner
F21: =+FxB!F31 -> Membership No.
C23: =+FxB!C33 -> Place: | F23: =+FxB!F33 -> Place:
C24: =+FxB!C34 -> Date: | F24: =+FxB!F34 -> Date:

Sheet ARB
B1: =+LCB!B2 -> [Name of the Bank]
B2: =+LCB!B3 -> [Name of the Branch]
B3: =+LCB!B4 -> Distinctive Code: [Branch Code]
B5: LONG FORM AUDIT REPORT [LFAR] TO MANAGEMENT
B6: QUESTIONNARE APPLICABLE TO BRANCHES DEALING IN RECOVERY OF NON PERFORMING ASSETS SUCH AS RECOVERY BRANCHES
F7: =+LCB!F8 -> Period: 01.04.2019 to 31.03.2020
C8: 1 | E8: In respect of borrowers with outstanding of Rs. 2.00 crore and above, the information in the enclosed format (Annexure “F”) should be obtained from the Branch Management. Comments of the Branch Auditor on advances with significant adverse features and which might need the attention of the management/Central Statutory Auditors should be appended to the Long Form Audit Report. | F8: Not Applicable
C9: 2 | E9: List the accounts (with outstanding in excess of Rs. 2.00 crores), which have been upgraded from Non Performing to Standard during the year and the reasons therefor. | F9: Not Applicable
C10: 3 | E10: Whether the Branch has a system of updating periodically, the information relating to the valuation of security charged to the bank? | F10: Not Applicable
C11: 4 | E11: Age-wise analysis of the recovery suits filed and pending may be furnished. | F11: Not Applicable
C12: 5 | E12: Is the Branch prompt in ensuring execution of decrees obtained for recovery from the defaulting borrowers? Also list the time barred decrees, if any, and reasons therefor. | F12: Not Applicable
C13: 6 | E13: List the recoveries and their appropriation against the interest and the principal and the accounts settled/ written off/ closed during the year. | F13: Not Applicable
C14: 7 | E14: List the new borrower accounts transferred to the Branch during the year. Have all the relevant documents and records relating to these borrower accounts been transferred to the Branch? Has the Branch obtained confirmation that all the accounts of the borrower (including non-fund based exposures and deposits pending adjustment/ margin deposits) been transferred to the Branch? | F14: Not Applicable
C16: =+LCB!C13 -> For | F16: =+LCB!F13 -> For Name of CA Firm
C17: =+LCB!C14 -> [Name of the Branch] | F17: =+LCB!F14 -> Chartered Accountants
C18: =+LCB!C15 -> Distinctive Code: [Branch Code] | F18: =+LCB!F15 -> FRN:
C22: =+LCB!C19 -> Branch Manager | F22: =+LCB!F19 -> Name of Partner
C23: =+LCB!C20 -> Chief Manager / AGM / DGM | F23: =+LCB!F20 -> Partner
F24: =+LCB!F21 -> Membership No.
C26: =+LCB!C23 -> Place: | F26: =+LCB!F23 -> Place:
C27: =+LCB!C24 -> Date: | F27: =+LCB!F24 -> Date:

Sheet Ser Br
B2: =+ARB!B1 -> [Name of the Bank]
B3: =+ARB!B2 -> [Name of the Branch]
B4: =+ARB!B3 -> Distinctive Code: [Branch Code]
B6: LONG FORM AUDIT REPORT [LFAR] TO MANAGEMENT
B7: QUESTIONNARE APPLICABLE TO BRANCHES DEALING IN CLEARING HOUSE OPEARIONS, NORMALLY REFERRED TO AS SERVICE BRANCHES
F8: =+ARB!F7 -> Period: 01.04.2019 to 31.03.2020
C9: 1 | E9: Does the branch have a system of periodic review of the outstanding entries in clearing adjustments accounts? In your view, has the system generally been complied with? | F9: Not Applicable
C10: 2 | E10: Whether review of the clearing adjustments accounts (inwards/outwards) reveals any old/large/unusual outstanding entries, which remain unexplained? Give year- wise break-up of outstanding in number and value: | F10: Not Applicable
E11: Inward Clearing | F11: Number | G11: Value
E12: Normal Clearing
E13: High Value Clearing
E14: Inter Branch Clearing
E15: National Clearing
E16: Returned / Dishonoured Clearing
E18: Outward Clearing | F18: Number | G18: Value
E19: Normal Clearing
E20: High Value Clearing
E21: Inter Branch Clearing
E22: National Clearing
E23: Returned / Dishonoured Clearing
C25: 3 | E25: Has the Branch strictly followed the guidelines of the controlling authority of the bank with respect to operations related to clearing transactions? Comment on the systems and procedures followed by the Branch in this regard. | F25: Not Applicable
C28: =+ARB!C16 -> For | F28: =+ARB!F16 -> For Name of CA Firm
C29: =+ARB!C17 -> [Name of the Branch] | F29: =+ARB!F17 -> Chartered Accountants
C30: =+ARB!C18 -> Distinctive Code: [Branch Code] | F30: =+ARB!F18 -> FRN:
C34: =+ARB!C22 -> Branch Manager | F34: =+ARB!F22 -> Name of Partner
C35: =+ARB!C23 -> Chief Manager / AGM / DGM | F35: =+ARB!F23 -> Partner
F36: =+ARB!F24 -> Membership No.
C38: =+ARB!C26 -> Place: | F38: =+ARB!F26 -> Place:
C39: =+ARB!C27 -> Date: | F39: =+ARB!F27 -> Date:

Sheet A1
B1: =+'Ser Br'!B2:G2 -> [Name of the Bank]
B2: =+'Ser Br'!B3:G3 -> [Name of the Branch]
B3: =+'Ser Br'!B4:G4 -> Distinctive Code: [Branch Code]
B5: ANNEXURES TO LONG FORM AUDIT REPORT [LFAR] TO MANAGEMENT
B6: Annexure 1
B7: DICGC Claims | C7: =+'Ser Br'!F8 -> Period: 01.04.2019 to 31.03.2020
B8: No claims for DICGC and ECG/Insurance and subsidies were lodged and settled during the year. There are no pending claims.
B9: Particulars | C9: Number | D9: Amount Rs.
B10: Claims as at the beginning of the year (Give year-wise details) | C10: NIL
B11: 2013 - 2014
B12: 2012 - 2013
B13: 2011 - 2012
B14: 2010 - 2011
B15: 2009 - 2010
B16: 2008 - 2009
B17: Other
B18: Total
B19: Further claims lodged during the year
B20: Total A | C20: =+C18+C19 -> 0 | D20: =+D18+D19 -> 0
B21: Amounts representing:
B22: a) claims accepted/settled
B23: (give year-wise details)
B24: 2013 - 2014 | C24: NIL
B25: 2012 - 2013
B26: 2011 - 2012
B27: 2010 - 2011
B28: 2009 - 2010
B29: 2008 - 2009
B30: Other
B31: Total
B32: b) Claims rejected
B33: (give year-wise details)
B34: 2013 - 2014 | C34: NIL
B35: 2012 - 2013
B36: 2011 - 2012
B37: 2010 - 2011
B38: 2009 - 2010
B39: 2008 - 2009
B40: Other
B41: Total
...

Sheet A 2,3,4
B2: =+'A1'!B1:D1 -> [Name of the Bank]
B3: =+'A1'!B2:D2 -> [Name of the Branch]
B4: =+'A1'!B3:D3 -> Distinctive Code: [Branch Code]
B6: ANNEXURES TO LONG FORM AUDIT REPORT [LFAR] TO MANAGEMENT
B7: Annexure 2
B8: Guarantees invoked, paid but not adjusted:
F9: =+'A1'!C7 -> Period: 01.04.2019 to 31.03.2020
B10: Sr. | C10: Date of Invocation | D10: Name of the Party | E10: Name of Beneficiary | F10: Amount Rs. Lacs | G10: Date of Recovery | H10: Remarks
B12: NIL
B15: Annexure 3
B16: Guarantees invoked, paid but not paid:
F17: =+F9 -> Period: 01.04.2019 to 31.03.2020
B18: Sr. | C18: Date of Invocation | D18: Name of the Party | E18: Name of Beneficiary | F18: Amount Rs. Lacs | G18: Date of Recovery | H18: Remarks
B20: NIL
B23: Annexure 4
B24: Details of the outstanding amounts of letters of credit and co-acceptances funded by the Branch at the end of the year may be obtained from the management and reported in the following format:
F25: =+F9 -> Period: 01.04.2019 to 31.03.2020
B26: Sr. | C26: Date of Funding | D26: Name of the Party | E26: Nature (LC/C-acceptance etc.) | F26: Amount Rs. Lacs | G26: Date of Recovery | H26: Remarks
B28: NIL

Sheet A5
B2: =+'A 2,3,4'!B2:H2 -> [Name of the Bank]
B3: =+'A 2,3,4'!B3:H3 -> [Name of the Branch]
B4: =+'A 2,3,4'!B4:H4 -> Distinctive Code: [Branch Code]
B6: ANNEXURES TO LONG FORM AUDIT REPORT [LFAR] TO MANAGEMENT
B7: Annexure 5
B8: Suspense Accounts / Sundry Assets - Details of Old Outstanding Entries
D9: =+'A 2,3,4'!F25 -> Period: 01.04.2019 to 31.03.2020
B10: Year | C10: Amount Rs. | D10: Remarks
B12: NIL

Sheet A6
B2: =+'A5'!B2:D2 -> [Name of the Bank]
B3: =+'A5'!B3:D3 -> [Name of the Branch]
B4: =+'A5'!B4:D4 -> Distinctive Code: [Branch Code]
B6: ANNEXURES TO LONG FORM AUDIT REPORT [LFAR] TO MANAGEMENT
B7: Annexure 6
B8: Bills Payable / Sundry Deposits - Details of Old Outstanding Entries
E9: =+'A5'!D9 -> Period: 01.04.2019 to 31.03.2020
B10: Year | C10: No of Items | D10: Amount Rs. | E10: Remarks
B12: NIL

Sheet A7
B2: =+'A6'!B2:E2 -> [Name of the Bank]
B3: =+'A6'!B3:E3 -> [Name of the Branch]
B4: =+'A6'!B4:E4 -> Distinctive Code: [Branch Code]
B6: ANNEXURES TO LONG FORM AUDIT REPORT [LFAR] TO MANAGEMENT
B7: Annexure 7
B8: Reconciliation of Control and Subsidiary Records
E9: =+'A6'!E9 -> Period: 01.04.2019 to 31.03.2020
B10: Account | C10: Date | D10: General Ledger Balance Rs. | E10: Subsidiary Ledger Balance Rs. | F10: Last date on which balanced
B12: ALL BALANCES ARE TALLIED AS ON 31.03.2014

Sheet A - A 
B2: =+'Main LFAR'!B2:F2 -> [Name of the Bank]
B3: =+'Main LFAR'!B3:F3 -> [Name of the Branch]
B4: =+'Main LFAR'!B4:F4 -> Distinctive Code: [Branch Code]
E5: =+'Main LFAR'!F7 -> Period: 01.04.2019 to 31.03.2020
B6: ANNEXURES TO LONG FORM AUDIT REPORT [LFAR] TO MANAGEMENT
B7: Annexure A
B8: Excess Cash Balance above the Retention Limit of Rs. 2 (Two) Lacs
F9: Rs. Lacs
B10: Date | C10: Cash Balance Rs. Lacs | D10: Retention Limit Rs. Lacs | E10: Excess Rs. Lacs | F10: % of Excess
B12: No Such case Observed
B15: Note:
B16: There is no specific cash retention limit fro the branch. However based on the experience, the cash is retained below
B17: Rs. 2 Lacs throughout the year at the branch. The cash balance is maintained only for the purpose of expenditure
B18: of branch and employee of the branch.

Sheet A - B
B2: =+'A - A '!B2:F2 -> [Name of the Bank]
B3: =+'A - A '!B3:F3 -> [Name of the Branch]
B4: =+'A - A '!B4:F4 -> Distinctive Code: [Branch Code]
E6: =+'A - A '!E5 -> Period: 01.04.2019 to 31.03.2020
B7: =+'[1]A-A'!B7:F7 -> ANNEXURES TO LONG FORM AUDIT REPORT [LFAR] TO MANAGEMENT
B8: Annexure B
B9: Reconciliaiton of Bank Account with - RBI / SBI / Other Bank
F10: Rs. Lacs
B11: Date | C11: Amount | D11: Debit / Credit | E11: Particulars | F11: Reason
B14: Nil
B19: Note:

Sheet A - C
B2: =+'A - A '!B2:F2 -> [Name of the Bank]
B3: =+'A - A '!B3:F3 -> [Name of the Branch]
B4: =+'A - A '!B4:F4 -> Distinctive Code: [Branch Code]
F6: =+'A - A '!E5 -> Period: 01.04.2019 to 31.03.2020
B7: ANNEXURES TO LONG FORM AUDIT REPORT [LFAR] TO MANAGEMENT
B8: Annexure C
B9: Credit Appraisal
B10: Loan Applications Forms in Prescribed form not obtained | F10: Rs. Lacs
B11: A/c Number | C11: Name of Party | D11: Nature of Facility | E11: Amount | F11: Remarks
B14: NIL
B19: Appraisal without latest Financial Statements | F19: Rs. Lacs
B20: A/c Number | C20: Name of Party | D20: Nature of Facility | E20: Amount | F20: Remarks
B25: Other Observations | F25: Rs. Lacs
B26: A/c Number | C26: Name of Party | D26: Nature of Facility | E26: Amount | F26: Remarks
B28: NIL

Sheet A - D
B2: =+'A - A '!B2:F2 -> [Name of the Bank]
B3: =+'A - A '!B3:F3 -> [Name of the Branch]
B4: =+'A - A '!B4:F4 -> Distinctive Code: [Branch Code]
E6: =+'A - A '!E5 -> Period: 01.04.2019 to 31.03.2020
B7: ANNEXURES TO LONG FORM AUDIT REPORT [LFAR] TO MANAGEMENT
B8: Annexure D
B9: Credit - Sanctioning and Disbursement | F9: Period: 01.04.2012 to 31.03.2013
B10: Credit Facilities sanctioned beyond Delegation of Power | F10: Rs. Lacs
B11: A/c Number | C11: Name of Party | D11: Nature of Facility | E11: Amount | F11: Remarks
B19: Credit Facilities disbursed without compliance with Terms & Conditions | F19: Rs. Lacs
B20: A/c Number | C20: Name of Party | D20: Nature of Facility | E20: Amount | F20: Terms and Conditions not complied
B23: NIL

Sheet A - E
B2: =+'A - A '!B2:F2 -> [Name of the Bank]
B3: =+'A - A '!B3:F3 -> [Name of the Branch]
B4: =+'A - A '!B4:F4 -> Distinctive Code: [Branch Code]
E6: =+'A - A '!E5 -> Period: 01.04.2019 to 31.03.2020
B7: ANNEXURES TO LONG FORM AUDIT REPORT [LFAR] TO MANAGEMENT
B8: Annexure E
B9: Credit - Documentation | F9: Rs. Lacs
B10: Credit Facilities disbursed without documentation
B11: A/c Number | C11: Name of Party | D11: Nature of Facility | E11: Amount | F11: Remarks
B13: NIL
B19: Credit - Documentation | F19: Rs. Lacs
B20: Deficiencies in Documentation
B21: A/c Number | C21: Name of Party | D21: Nature of Facility | E21: Amount | F21: Remarks
B24: Nil
B29: Credit - Documentation | F29: Rs. Lacs
B30: Lien on Deposits in case of Loans against Deposits
B31: A/c Number | C31: Name of Party | D31: Nature of Facility | E31: Amount | F31: Remarks
B34: Nil

Sheet A - F
B2: =+'A - E'!B2:F2 -> [Name of the Bank]
B3: =+'A - E'!B3:F3 -> [Name of the Branch]
B4: =+'A - E'!B4:F4 -> Distinctive Code: [Branch Code]
G6: =+'A - A '!E5 -> Period: 01.04.2019 to 31.03.2020
B7: ANNEXURES TO LONG FORM AUDIT REPORT [LFAR] TO MANAGEMENT
B8: Annexure F
B9: Credit - Review Monitoring & Supervision
B10: Accounts overdue for Review / Renewal | H10: Rs. Lacs
B11: A/c Number | C11: Name of Party | D11: Nature of Facility | E11: Amount | F11: Outsanding as on 31.03.2013 | G11: Date of Last Review / Renewal | H11: Remarks
B12: 1756008700000619 | C12: Emmbi Polyarns Ltd | D12: Cash Credit | E12: 2000 | G12: 09.02.2012
B19: Acknowledgement of Debts / Balance Confirmations | H19: Rs. Lacs
B20: A/c Number | C20: Name of Party | D20: Nature of Facility | E20: Amount | F20: Outsanding as on 31.03.2013 | G20: Date of Balance Confirmation | H20: Remarks
B22: NIL
B28: Stock Statements Not submitted | H28: Rs. Lacs
B29: A/c Number | C29: Name of Party | D29: Nature of Facility | E29: Amount | F29: Outsanding as on 31.03.2013 | G29: Date of Last Stock Statement | H29: Remarks
B30: 1756008700000691 | C30: Maheshwari Tools | D30: Cash credit | E30: 25 | H30: August 2012 and November 2012 not received.
B31: 1756008700000798 | C31: Excel Enterprises | D31: Cash credit | E31: 20 | G31: 31.01.2013 | H31: February 2013 not received
B37: Financial Statement as on 31.03.2012 not submitted | F37: Rs. Lacs
B38: A/c Number | C38: Name of Party | D38: Nature of Facility | E38: Amount | F38: Outsanding as on 31.03.2013
B40: Nil
B44: QIS for December 2011 not submitted | F44: Rs. Lacs
B45: A/c Number | C45: Name of Party | D45: Nature of Facility | E45: Amount | F45: Outsanding as on 31.03.2013
B48: Nil
B53: Observations based on Stock Audit Reports | H53: Rs. Lacs
B54: A/c Number | C54: Name of Party | D54: Nature of Facility | E54: Amount | F54: Outsanding as on 31.03.2013 | G54: Date of Stock Audit Report | H54: Remarks
B55: 1756008700000594 | C55: Trident Tools Ltd | D55: Cash Credit | E55: 1150 | G55: 31.12.2012 | H55: Stock audit report to be closed.
B56: 1756008700000619 | C56: Emmbi Polyarns Ltd | D56: Cash Credit | E56: 2000 | G56: 12.01.2013 | H56: Stock audit report to be closed.
B62: Advances to Non Corporate Entities more than Rs. 10 Lacs where Audited Financial Statements are not obtained | H62: Rs. Lacs
B63: A/c Number | C63: Name of Party | D63: Nature of Facility | E63: Amount | F63: Outsanding as on 31.03.2013 | H63: Remarks
B66: Nil
B71: Obsevations on Physical Verification of securities by Branch officials | H71: Rs. Lacs
B72: A/c Number | C72: Name of Party | D72: Nature of Facility | E72: Amount | F72: Outsanding as on 31.03.2013 | H72: Remarks
B75: Nil
B81: Deficiencies in Valuation of Securities charged to Bank | H81: Rs. Lacs
B82: A/c Number | C82: Name of Party | D82: Nature of Facility | E82: Amount | F82: Outsanding as on 31.03.2013 | G82: Valuation of Securities Report dated | H82: Remarks
B83: 1218008700000906 | C83: Nice Kables | D83: Cash Credit | E83: 50 | G83: 31.12.2009
B91: Insurance Policy for Security Charged to Bank not on Record | H91: Rs. Lacs
B92: A/c Number | C92: Name of Party | D92: Nature of Facility | E92: Amount | F92: Outsanding as on 31.03.2013 | G92: Insurance Policy details | H92: Remarks
B95: Nil
B101: Bank's Lien not recorde on Insurance Policy | H101: Rs. Lacs
...

Sheet A - G
B2: =+'A - F'!B2:H2 -> [Name of the Bank]
B3: =+'A - F'!B3:H3 -> [Name of the Branch]
B4: =+'A - F'!B4:H4 -> Distinctive Code: [Branch Code]
I6: =+'A - A '!E5 -> Period: 01.04.2019 to 31.03.2020
B7: ANNEXURES TO LONG FORM AUDIT REPORT [LFAR] TO MANAGEMENT
B8: Annexure G
B9: Stationery and Stamps
B10: Missing items of Stationery and Stamps
J11: Rs. Lacs
B12: Sr | C12: Item Code | D12: Particulars | E12: Quantity as per Register | F12: Value as per Register | G12: Quantity as per Verification | H12: Value as per Verification | I12: Difference | J12: Remarks

Sheet A - H
B2: =+'A - G'!B2:J2 -> [Name of the Bank]
B3: =+'A - G'!B3:J3 -> [Name of the Branch]
B4: =+'A - G'!B4:J4 -> Distinctive Code: [Branch Code]
F6: =+'A - G'!I6 -> Period: 01.04.2019 to 31.03.2020
B7: ANNEXURES TO LONG FORM AUDIT REPORT [LFAR] TO MANAGEMENT
B8: Annexure H
B9: Deposits
B10: Observations in Opeartions in Inoperative Accounts | G10: Rs. Lacs
B11: A/c Number | C11: Name of Party | D11: Inoperative Since | E11: Date of Operation | F11: Nature of Transaction | G11: Remarks
B14: NIL

Sheet A - I
B2: =+'A - H'!B2:G2 -> [Name of the Bank]
B3: =+'A - H'!B3:G3 -> [Name of the Branch]
B4: =+'A - H'!B4:G4 -> Distinctive Code: [Branch Code]
J6: =+'A - H'!F6 -> Period: 01.04.2019 to 31.03.2020
B7: ANNEXURES TO LONG FORM AUDIT REPORT [LFAR] TO MANAGEMENT
B8: Annexure I
B9: Deposits
B10: Unusual / Large movement in Aggregate Deposits | K10: Rs. Lacs
B11: Break up of Deposits | C11: As on 31.03.2016 | D11: As on 30.06.2016 | E11: As on 30.09.2016 | F11: As on 31.12.2016 | G11: As on 31.03.2017 | H11: % of Increase / Decrease | I11: As on 05.04.2016 | J11: % of Increase / Decrease | K11: Remarks
B12: Demand Deposits
B13: Savings Bank Deposit | C13: 1 | D13: 1 | E13: 1 | F13: 1 | G13: 2 | H13: =(+G13-C13)/C13 -> 1 | I13: 2.3 | J13: =(+I13-G13)/G13*100 -> 15
B14: Current Deposit | C14: 1 | D14: 1 | E14: 1 | F14: 1 | G14: 2 | H14: =(+G14-C14)/C14 -> 1 | I14: 2.3 | J14: =(+I14-G14)/G14*100 -> 15
B15: Credit Balance in CC / OD Accounts | C15: 1 | G15: 2 | H15: =(+G15-C15)/C15 -> 1 | I15: 2.3 | J15: =(+I15-G15)/G15*100 -> 15
B16: Total - A | C16: =SUM(C13:C15) -> 3 | D16: =SUM(D13:D15) -> 2 | E16: =SUM(E13:E15) -> 2 | F16: =SUM(F13:F15) -> 2 | G16: =SUM(G13:G15) -> 6 | H16: =(+G16-C16)/C16 -> 1 | I16: =SUM(I13:I15) -> 6.9 | J16: =(+I16-G16)/G16*100 -> 15
B17: Term Deposits
B18: Fixed Deposits | C18: 1 | D18: 1 | E18: 1 | F18: 1 | G18: 2 | H18: =(+G18-C18)/C18 -> 1 | I18: 2.3 | J18: =(+I18-G18)/G18*100 -> 15
B19: Cumulative Interest Deposits | C19: 1 | D19: 1 | E19: 1 | F19: 1 | G19: 2 | H19: =(+G19-C19)/C19 -> 1 | I19: 2.3 | J19: =(+I19-G19)/G19*100 -> 15
B20: Recurring Deposits | C20: 1 | D20: 1 | E20: 1 | F20: 1 | G20: 2 | H20: =(+G20-C20)/C20 -> 1 | I20: 2.3 | J20: =(+I20-G20)/G20*100 -> 15
B21: Total - B | C21: =SUM(C18:C20) -> 3 | D21: =SUM(D18:D20) -> 3 | E21: =SUM(E18:E20) -> 3 | F21: =SUM(F18:F20) -> 3 | G21: =SUM(G18:G20) -> 6 | H21: =(+G21-C21)/C21 -> 1 | I21: =SUM(I18:I20) -> 6.9 | J21: =(+I21-G21)/G21*100 -> 15
B22: Term Deposits A + B | C22: =+C16+C21 -> 6 | D22: =+D16+D21 -> 5 | E22: =+E16+E21 -> 5 | F22: =+F16+F21 -> 5 | G22: =+G16+G21 -> 12 | H22: =(+G22-C22)/C22 -> 1 | I22: =+I16+I21 -> 13.8 | J22: =(+I22-G22)/G22*100 -> 15

Sheet A - J
B2: =+'A - I'!B2:K2 -> [Name of the Bank]
B3: =+'A - I'!B3:K3 -> [Name of the Branch]
B4: =+'A - I'!B4:K4 -> Distinctive Code: [Branch Code]
D6: =+'A - I'!J6 -> Period: 01.04.2019 to 31.03.2020
B7: ANNEXURES TO LONG FORM AUDIT REPORT [LFAR] TO MANAGEMENT
B8: Annexure J
B9: Other Liabilities
B10: Unusual transactions in Bills Payable, Sundry Deposits | E10: Rs. Lacs
B11: Date | C11: Nature of Transaction | D11: Amount | E11: Remarks

Sheet A - K

Sheet A - L
B2: =+'A - J'!B2:E2 -> [Name of the Bank]
B3: =+'A - J'!B3:E3 -> [Name of the Branch]
B4: =+'A - J'!B4:E4 -> Distinctive Code: [Branch Code]
B6: ANNEXURES TO LONG FORM AUDIT REPORT [LFAR] TO MANAGEMENT
B7: Annexure L
B8: Discrepancies in Interest / Discount on Advances | G8: =+'A - J'!D6 -> Period: 01.04.2019 to 31.03.2020
H9: Rs. Lacs
B10: A/c No | C10: Name of Party | D10: Type of Facility | E10: Interest Actual | F10: Interest Charged | G10: Excess / (Shortage) | H10: Remarks

Sheet A - M
B2: =+'A - L'!B2:H2 -> [Name of the Bank]
B3: =+'A - L'!B3:H3 -> [Name of the Branch]
B4: =+'A - L'!B4:H4 -> Distinctive Code: [Branch Code]
B6: ANNEXURES TO LONG FORM AUDIT REPORT [LFAR] TO MANAGEMENT
B7: Annexure M
B8: Discrepancies in IRAC Norms | G8: =+'A - L'!G8 -> Period: 01.04.2019 to 31.03.2020
H9: Rs. Lacs
B10: A/c No | C10: Name of Party | D10: Type of Facility | E10: Asset Classification as per Branch | F10: Asset Classification as per Auditors | G10: MOC Details | H10: Remarks

Sheet A - N
B2: =+'A - M'!B2:H2 -> [Name of the Bank]
B3: =+'A - M'!B3:H3 -> [Name of the Branch]
B4: =+'A - M'!B4:H4 -> Distinctive Code: [Branch Code]
B6: ANNEXURES TO LONG FORM AUDIT REPORT [LFAR] TO MANAGEMENT
B7: Annexure N
B8: Discrepancies in Interest on Deposits | G8: =+'A - M'!G8 -> Period: 01.04.2019 to 31.03.2020
H9: Rs. Lacs
B10: A/c No | C10: Name of Depositor | D10: Type of Deposit | E10: Interest Actual | F10: Interest Paid | G10: Excess / (Shortage) | H10: Remarks

Sheet A - O

Sheet A - P
B2: =+'A - N'!B2:H2 -> [Name of the Bank]
B3: =+'A - N'!B3:H3 -> [Name of the Branch]
B4: =+'A - N'!B4:H4 -> Distinctive Code: [Branch Code]
I5: =+'A - N'!G8 -> Period: 01.04.2019 to 31.03.2020
B6: ANNEXURES TO LONG FORM AUDIT REPORT [LFAR] TO MANAGEMENT
B7: Annexure P
B8: Divergent Trend in Liabilities & Assets
K9: Rs. Lacs
A10: Sr | B10: Particulars | C10: As on 31.03.2018 | D10: As on 30.06.2018 | E10: As on 30.09.2018 | F10: As on 31.12.2018 | G10: As on 31.03.2019 | H10: % of Increase / Decrease | I10: As on 08.04.2019 | J10: % of Increase / Decrease | K10: Remarks
A11: A | B11: Liabilities | C11: =+C12+C16+C20+C28+C37+C40+C44 -> 23 | D11: =+D12+D16+D20+D28+D37+D40+D44 -> 23 | E11: =+E12+E16+E20+E28+E37+E40+E44 -> 23 | F11: =+F12+F16+F20+F28+F37+F40+F44 -> 23 | G11: =+G12+G16+G20+G28+G37+G40+G44 -> 1796.81 | H11: =(+G11-C11)/C11 -> 77.122174 | I11: =+I12+I16+I20+I28+I37+I40+I44 -> 1796.81 | J11: =(+I11-G11)/G11*100 -> 0
A12: 10 | B12: Current Deposit | C12: =SUM(C13:C14) -> 2 | D12: =SUM(D13:D14) -> 2 | E12: =SUM(E13:E14) -> 2 | F12: =SUM(F13:F14) -> 2 | G12: =SUM(G13:G14) -> 6.14 | H12: =(+G12-C12)/C12 -> 2.07 | I12: =SUM(I13:I14) -> 6.14 | J12: =(+I12-G12)/G12*100 -> 0
B13: - Corpoate | C13: 1 | D13: 1 | E13: 1 | F13: 1 | G13: 6.12 | H13: =(+G13-C13)/C13 -> 5.12 | I13: 6.12 | J13: =(+I13-G13)/G13*100 -> 0
B14: - Retail | C14: 1 | D14: 1 | E14: 1 | F14: 1 | G14: 0.02 | H14: =(+G14-C14)/C14 -> -0.98 | I14: 0.02 | J14: =(+I14-G14)/G14*100 -> 0
A16: 11 | B16: Saving Deposit | C16: =SUM(C17:C18) -> 2 | D16: =SUM(D17:D18) -> 2 | E16: =SUM(E17:E18) -> 2 | F16: =SUM(F17:F18) -> 2 | G16: =SUM(G17:G18) -> 15.87 | H16: =(+G16-C16)/C16 -> 6.935 | I16: =SUM(I17:I18) -> 15.87 | J16: =(+I16-G16)/G16*100 -> 0
B17: - Retail | C17: 1 | D17: 1 | E17: 1 | F17: 1 | G17: 12.69 | H17: =(+G17-C17)/C17 -> 11.69 | I17: 12.69 | J17: =(+I17-G17)/G17*100 -> 0
B18: - Staff | C18: 1 | D18: 1 | E18: 1 | F18: 1 | G18: 3.18 | H18: =(+G18-C18)/C18 -> 2.18 | I18: 3.18 | J18: =(+I18-G18)/G18*100 -> 0
A20: 12 | B20: Fixed Deposit | C20: =SUM(C21:C26) -> 6 | D20: =SUM(D21:D26) -> 6 | E20: =SUM(E21:E26) -> 6 | F20: =SUM(F21:F26) -> 6 | G20: =SUM(G21:G26) -> 1723.52 | H20: =(+G20-C20)/C20 -> 286.25333 | I20: =SUM(I21:I26) -> 1723.52 | J20: =(+I20-G20)/G20*100 -> 0
B21: - Corporate Regular | C21: 1 | D21: 1 | E21: 1 | F21: 1 | G21: 572.92 | H21: =(+G21-C21)/C21 -> 571.92 | I21: 572.92 | J21: =(+I21-G21)/G21*100 -> 0
B22: - Corporate SDR | C22: 1 | D22: 1 | E22: 1 | F22: 1 | G22: 1019.55 | H22: =(+G22-C22)/C22 -> 1018.55 | I22: 1019.55 | J22: =(+I22-G22)/G22*100 -> 0
B23: - Retail SDR | C23: 1 | D23: 1 | E23: 1 | F23: 1 | G23: 119.8 | H23: =(+G23-C23)/C23 -> 118.8 | I23: 119.8 | J23: =(+I23-G23)/G23*100 -> 0
B24: - Staff SDR | C24: 1 | D24: 1 | E24: 1 | F24: 1 | G24: 2.39 | H24: =(+G24-C24)/C24 -> 1.39 | I24: 2.39 | J24: =(+I24-G24)/G24*100 -> 0
B25: - Ex Staff SC SDR | C25: 1 | D25: 1 | E25: 1 | F25: 1 | G25: 5.8 | H25: =(+G25-C25)/C25 -> 4.8 | I25: 5.8 | J25: =(+I25-G25)/G25*100 -> 0
B26: - Staff RD | C26: 1 | D26: 1 | E26: 1 | F26: 1 | G26: 3.06 | H26: =(+G26-C26)/C26 -> 2.06 | I26: 3.06 | J26: =(+I26-G26)/G26*100 -> 0
A28: 15 | B28: Other Liabilities | C28: =SUM(C29:C35) -> 6 | D28: =SUM(D29:D35) -> 6 | E28: =SUM(E29:E35) -> 6 | F28: =SUM(F29:F35) -> 6 | G28: =SUM(G29:G35) -> 30.34 | H28: =(+G28-C28)/C28 -> 4.0566667 | I28: =SUM(I29:I35) -> 30.34 | J28: =(+I28-G28)/G28*100 -> 0
B29: - Bills Payable | C29: 1 | D29: 1 | E29: 1 | F29: 1 | G29: 0 | H29: =(+G29-C29)/C29 -> -1 | I29: 0 | J29: =(+I29-G29)/G29*100 -> #DIV/0!
B30: - Others | C30: 1 | D30: 1 | E30: 1 | F30: 1 | G30: 29.47 | H30: =(+G30-C30)/C30 -> 28.47 | I30: 29.47 | J30: =(+I30-G30)/G30*100 -> 0
B31: - Inter Office | C31: 0 | D31: 0 | E31: 0 | F31: 0 | G31: 0 | H31: =(+G31-C31)/C31 -> #DIV/0! | I31: 0 | J31: =(+I31-G31)/G31*100 -> #DIV/0!
B32: - Recpt on A/c Govt | C32: 1 | D32: 1 | E32: 1 | F32: 1 | G32: 0.01 | H32: =(+G32-C32)/C32 -> -0.99 | I32: 0.01 | J32: =(+I32-G32)/G32*100 -> 0
B33: - TDS | C33: 1 | D33: 1 | E33: 1 | F33: 1 | G33: 0.82 | H33: =(+G33-C33)/C33 -> -0.18 | I33: 0.82 | J33: =(+I33-G33)/G33*100 -> 0
B34: - Suspense Receipts | C34: 1 | D34: 1 | E34: 1 | F34: 1 | G34: 0.04 | H34: =(+G34-C34)/C34 -> -0.96 | I34: 0.04 | J34: =(+I34-G34)/G34*100 -> 0
B35: - Other Deposit | C35: 1 | D35: 1 | E35: 1 | F35: 1 | G35: 0 | H35: =(+G35-C35)/C35 -> -1 | I35: 0 | J35: =(+I35-G35)/G35*100 -> #DIV/0!
A37: 17 | B37: Demand Draft | C37: =SUM(C38:C38) -> 1 | D37: =SUM(D38:D38) -> 1 | E37: =SUM(E38:E38) -> 1 | F37: =SUM(F38:F38) -> 1 | G37: =SUM(G38:G38) -> 1.43 | H37: =(+G37-C37)/C37 -> 0.43 | I37: =SUM(I38:I38) -> 1.43 | J37: =(+I37-G37)/G37*100 -> 0
B38: - DD A/c No. 3 | C38: 1 | D38: 1 | E38: 1 | F38: 1 | G38: 1.43 | H38: =(+G38-C38)/C38 -> 0.43 | I38: 1.43 | J38: =(+I38-G38)/G38*100 -> 0
A40: 19 | B40: Int Payable SB | C40: =SUM(C41:C42) -> 2 | D40: =SUM(D41:D42) -> 2 | E40: =SUM(E41:E42) -> 2 | F40: =SUM(F41:F42) -> 2 | G40: =SUM(G41:G42) -> 0.04 | H40: =(+G40-C40)/C40 -> -0.98 | I40: =SUM(I41:I42) -> 0.04 | J40: =(+I40-G40)/G40*100 -> 0
B41: - SB Retail | C41: 1 | D41: 1 | E41: 1 | F41: 1 | G41: 0.03 | H41: =(+G41-C41)/C41 -> -0.97 | I41: 0.03 | J41: =(+I41-G41)/G41*100 -> 0
B42: - SB Staff | C42: 1 | D42: 1 | E42: 1 | F42: 1 | G42: 0.01 | H42: =(+G42-C42)/C42 -> -0.99 | I42: 0.01 | J42: =(+I42-G42)/G42*100 -> 0
A44: 20 | B44: Int Payable TD | C44: =SUM(C45:C48) -> 4 | D44: =SUM(D45:D48) -> 4 | E44: =SUM(E45:E48) -> 4 | F44: =SUM(F45:F48) -> 4 | G44: =SUM(G45:G48) -> 19.47 | H44: =(+G44-C44)/C44 -> 3.8675 | I44: =SUM(I45:I48) -> 19.47 | J44: =(+I44-G44)/G44*100 -> 0
B45: - FD Corp Reg | C45: 1 | D45: 1 | E45: 1 | F45: 1 | G45: 19.47 | H45: =(+G45-C45)/C45 -> 18.47 | I45: 19.47 | J45: =(+I45-G45)/G45*100 -> 0
B46: - FD Retail | C46: 1 | D46: 1 | E46: 1 | F46: 1 | G46: 0 | H46: =(+G46-C46)/C46 -> -1 | I46: 0 | J46: =(+I46-G46)/G46*100 -> #DIV/0!
B47: - FD Staff | C47: 1 | D47: 1 | E47: 1 | F47: 1 | G47: 0 | H47: =(+G47-C47)/C47 -> -1 | I47: 0 | J47: =(+I47-G47)/G47*100 -> #DIV/0!
...

Sheet A - Q
B2: =+'A - P'!B2:K2 -> [Name of the Bank]
B3: =+'A - P'!B3:K3 -> [Name of the Branch]
B4: =+'A - P'!B4:K4 -> Distinctive Code: [Branch Code]
D6: =+'A - P'!I5 -> Period: 01.04.2019 to 31.03.2020
B7: ANNEXURES TO LONG FORM AUDIT REPORT [LFAR] TO MANAGEMENT
B8: Annexure Q
B9: Annexure / MIS Printed through CBS
E10: Rs. Lacs
B11: Sr | C11: Type of Report | D11: Periodicity | E11: Remarks
B16: NIL
B24: take copy of HO / IT Circular for the same.

Sheet A - R

Sheet A - S
B2: =+'A - Q'!B2:E2 -> [Name of the Bank]
B3: =+'A - Q'!B3:E3 -> [Name of the Branch]
B4: =+'A - Q'!B4:E4 -> Distinctive Code: [Branch Code]
E6: =+'A - Q'!D6 -> Period: 01.04.2019 to 31.03.2020
B7: ANNEXURES TO LONG FORM AUDIT REPORT [LFAR] TO MANAGEMENT
B8: Annexure S
B9: General
B10: Major Observations Considered from Various Audit Reports | F10: Rs. Lacs
B11: Date of Audit Report | C11: Type of Audit Report | D11: Conducted by | E11: Period Covered by Audit | F11: Observations considered for Statutory audit

Sheet A - T

Sheet Sheet1

Sheet Sheet2

Sheet Sheet3
